BEGIN:VCALENDAR
VERSION:2.0
PRODID:-//time.now/holidays//NONSGML v1.0//EN
BEGIN:VEVENT
UID:46435e7e-057f-4985-82dc-45d6eae48cc2
DTSTAMP:20260420T095945Z
DTSTART;VALUE=DATE:20261101
SUMMARY:All Saints' Day (Austria)
END:VEVENT
END:VCALENDAR