BEGIN:VCALENDAR
VERSION:2.0
PRODID:-//time.now/holidays//NONSGML v1.0//EN
BEGIN:VEVENT
UID:b56abd64-abc4-4e59-895d-7775ff8256ac
DTSTAMP:20260420T090024Z
DTSTART;VALUE=DATE:20260601
SUMMARY:Reconciliation Day (Australia)
END:VEVENT
END:VCALENDAR