BEGIN:VCALENDAR
VERSION:2.0
PRODID:-//time.now/holidays//NONSGML v1.0//EN
BEGIN:VEVENT
UID:91dff2e9-e677-44e7-9e6c-d914cbc6e7f9
DTSTAMP:20260420T161946Z
DTSTART;VALUE=DATE:20260803
SUMMARY:Picnic Day (Australia)
END:VEVENT
END:VCALENDAR