BEGIN:VCALENDAR
VERSION:2.0
PRODID:-//time.now/holidays//NONSGML v1.0//EN
BEGIN:VEVENT
UID:834b96c2-eebc-49d5-99ef-4975a437230a
DTSTAMP:20260420T053845Z
DTSTART;VALUE=DATE:20260425
SUMMARY:ANZAC Day (Australia)
END:VEVENT
END:VCALENDAR