BEGIN:VCALENDAR
VERSION:2.0
PRODID:-//time.now/holidays//NONSGML v1.0//EN
BEGIN:VEVENT
UID:cd8c55a4-faed-44a6-8db3-e96a32504535
DTSTAMP:20260420T112002Z
DTSTART;VALUE=DATE:20260427
SUMMARY:ANZAC Day (observed) (Australia)
END:VEVENT
END:VCALENDAR