BEGIN:VCALENDAR
VERSION:2.0
PRODID:-//time.now/holidays//NONSGML v1.0//EN
BEGIN:VEVENT
UID:7cb943b9-f002-450e-916a-34d8ee34c1d8
DTSTAMP:20260420T105715Z
DTSTART;VALUE=DATE:20260309
SUMMARY:Adelaide Cup Day (Australia)
END:VEVENT
END:VCALENDAR