BEGIN:VCALENDAR
VERSION:2.0
PRODID:-//time.now/holidays//NONSGML v1.0//EN
BEGIN:VEVENT
UID:089c4a3d-34da-41ce-b5fe-b3be6a207872
DTSTAMP:20260420T045016Z
DTSTART;VALUE=DATE:20210425
SUMMARY:Additional public holiday (Australia)
END:VEVENT
END:VCALENDAR