BEGIN:VCALENDAR
VERSION:2.0
PRODID:-//time.now/holidays//NONSGML v1.0//EN
BEGIN:VEVENT
UID:ff351742-ae02-4e0d-9c24-d9d57a086ba8
DTSTAMP:20260424T162026Z
DTSTART;VALUE=DATE:20260318
SUMMARY:National Anthem and Flag Day (Aruba)
END:VEVENT
END:VCALENDAR