BEGIN:VCALENDAR
VERSION:2.0
PRODID:-//time.now/holidays//NONSGML v1.0//EN
BEGIN:VEVENT
UID:5672a4d6-dbd7-4815-b2f8-fb56ee49e90d
DTSTAMP:20260420T015146Z
DTSTART;VALUE=DATE:20260403
SUMMARY:Good Friday (Aruba)
END:VEVENT
END:VCALENDAR