BEGIN:VCALENDAR
VERSION:2.0
PRODID:-//time.now/holidays//NONSGML v1.0//EN
BEGIN:VEVENT
UID:0c4296b4-deb4-40d9-aa1e-618023853aa9
DTSTAMP:20260420T125420Z
DTSTART;VALUE=DATE:20260911
SUMMARY:Teacher's Day (Argentina)
END:VEVENT
END:VCALENDAR