BEGIN:VCALENDAR
VERSION:2.0
PRODID:-//time.now/holidays//NONSGML v1.0//EN
BEGIN:VEVENT
UID:9fec8fe1-5135-4933-ad08-a25881524d54
DTSTAMP:20260420T205853Z
DTSTART;VALUE=DATE:20261125
SUMMARY:Selk'Nam Genocide Day (Argentina)
END:VEVENT
END:VCALENDAR