BEGIN:VCALENDAR
VERSION:2.0
PRODID:-//time.now/holidays//NONSGML v1.0//EN
BEGIN:VEVENT
UID:52a633cf-0584-4f4c-8069-a8f051fa9835
DTSTAMP:20260420T091943Z
DTSTART;VALUE=DATE:20260301
SUMMARY:Provincial Autonomy Day (Argentina)
END:VEVENT
END:VCALENDAR