BEGIN:VCALENDAR
VERSION:2.0
PRODID:-//time.now/holidays//NONSGML v1.0//EN
BEGIN:VEVENT
UID:6dddb906-8642-4dc5-8842-923ca0726eb8
DTSTAMP:20260422T105122Z
DTSTART;VALUE=DATE:20210402
SUMMARY:Good Friday; Veteran's Day and the Fallen in the Malvinas War (Argentina)
END:VEVENT
END:VCALENDAR