BEGIN:VCALENDAR
VERSION:2.0
PRODID:-//time.now/holidays//NONSGML v1.0//EN
BEGIN:VEVENT
UID:c5fa157f-cc71-4ee1-855a-5ef9af78b8ac
DTSTAMP:20260422T085535Z
DTSTART;VALUE=DATE:20221220
SUMMARY:FIFA World Cup 2022 Victory Day (Argentina)
END:VEVENT
END:VCALENDAR