BEGIN:VCALENDAR
VERSION:2.0
PRODID:-//time.now/holidays//NONSGML v1.0//EN
BEGIN:VEVENT
UID:08df048c-fab9-47a9-b4d8-1680a3ef91ea
DTSTAMP:20260421T011309Z
DTSTART;VALUE=DATE:20260913
SUMMARY:Feasts of the Lord and the Virgin of Miracle (Argentina)
END:VEVENT
END:VCALENDAR