BEGIN:VCALENDAR
VERSION:2.0
PRODID:-//time.now/holidays//NONSGML v1.0//EN
BEGIN:VEVENT
UID:465a913f-8c2d-4197-949a-c2142fc0afa3
DTSTAMP:20260421T041042Z
DTSTART;VALUE=DATE:20270216
SUMMARY:Day of the Death of Juan Facundo Quiroga (Argentina)
END:VEVENT
END:VCALENDAR