BEGIN:VCALENDAR
VERSION:2.0
PRODID:-//time.now/holidays//NONSGML v1.0//EN
BEGIN:VEVENT
UID:5cb0bffa-41a7-4442-a611-598e2022fee8
DTSTAMP:20260421T012408Z
DTSTART;VALUE=DATE:20280617
SUMMARY:Day of Memory of General Don Martín Miguel de Güemes; Pass to the Immortality of General Don Martín Miguel de Güemes (Argentina)
END:VEVENT
END:VCALENDAR