BEGIN:VCALENDAR
VERSION:2.0
PRODID:-//time.now/holidays//NONSGML v1.0//EN
BEGIN:VEVENT
UID:8ac4371c-0be7-4fb8-be33-10ecde926513
DTSTAMP:20260421T041044Z
DTSTART;VALUE=DATE:20340220
SUMMARY:Anniversary of the Battle of Salta; Carnival Monday (Argentina)
END:VEVENT
END:VCALENDAR