BEGIN:VCALENDAR
VERSION:2.0
PRODID:-//time.now/holidays//NONSGML v1.0//EN
BEGIN:VEVENT
UID:5554ae26-dd98-454b-8b60-b49605b91ea1
DTSTAMP:20260421T005746Z
DTSTART;VALUE=DATE:20261209
SUMMARY:Sir Vere Cornwall Bird Snr. Day (Antigua y Barbuda)
END:VEVENT
END:VCALENDAR