BEGIN:VCALENDAR
VERSION:2.0
PRODID:-//time.now/holidays//NONSGML v1.0//EN
BEGIN:VEVENT
UID:945f4741-f252-49c6-94c2-1adf714ed5d9
DTSTAMP:20260422T085820Z
DTSTART;VALUE=DATE:20260101
SUMMARY:New Year's Day (Antigua y Barbuda)
END:VEVENT
END:VCALENDAR