BEGIN:VCALENDAR
VERSION:2.0
PRODID:-//time.now/holidays//NONSGML v1.0//EN
BEGIN:VEVENT
UID:c9611022-1594-4802-9ba0-0406f88152e1
DTSTAMP:20260422T091428Z
DTSTART;VALUE=DATE:20340102
SUMMARY:New Year's Day (observed) (Antigua y Barbuda)
END:VEVENT
END:VCALENDAR