BEGIN:VCALENDAR
VERSION:2.0
PRODID:-//time.now/holidays//NONSGML v1.0//EN
BEGIN:VEVENT
UID:2701b0bf-9b8e-41e7-a50d-7197b4920e78
DTSTAMP:20260422T091736Z
DTSTART;VALUE=DATE:20230119
SUMMARY:Day after the General Election (Antigua y Barbuda)
END:VEVENT
END:VCALENDAR