BEGIN:VCALENDAR
VERSION:2.0
PRODID:-//time.now/holidays//NONSGML v1.0//EN
BEGIN:VEVENT
UID:2e48409e-103c-4a2f-a2d8-55b3271ddb14
DTSTAMP:20260422T223829Z
DTSTART;VALUE=DATE:20261225
SUMMARY:Christmas Day (Antigua y Barbuda)
END:VEVENT
END:VCALENDAR