BEGIN:VCALENDAR
VERSION:2.0
PRODID:-//time.now/holidays//NONSGML v1.0//EN
BEGIN:VEVENT
UID:629ed8b9-423f-4323-a6f5-ea9fe0e6645f
DTSTAMP:20260422T091007Z
DTSTART;VALUE=DATE:20271227
SUMMARY:Christmas Day (observed) (Antigua y Barbuda)
END:VEVENT
END:VCALENDAR