BEGIN:VCALENDAR
VERSION:2.0
PRODID:-//time.now/holidays//NONSGML v1.0//EN
BEGIN:VEVENT
UID:a237d276-ae12-4efe-8926-b267cac7d3f3
DTSTAMP:20260420T204628Z
DTSTART;VALUE=DATE:20261226
SUMMARY:Boxing Day (Antigua y Barbuda)
END:VEVENT
END:VCALENDAR