BEGIN:VCALENDAR
VERSION:2.0
PRODID:-//time.now/holidays//NONSGML v1.0//EN
BEGIN:VEVENT
UID:a44b53b3-79a8-4fa2-ad16-0ba75e4cfb29
DTSTAMP:20260422T133035Z
DTSTART;VALUE=DATE:20261228
SUMMARY:Boxing Day (observed) (Antigua y Barbuda)
END:VEVENT
END:VCALENDAR