BEGIN:VCALENDAR
VERSION:2.0
PRODID:-//time.now/holidays//NONSGML v1.0//EN
BEGIN:VEVENT
UID:a06af72b-fbc1-44ec-a4d0-9f292b019b5b
DTSTAMP:20260420T170538Z
DTSTART;VALUE=DATE:20260101
SUMMARY:New Year's Day (Anguila)
END:VEVENT
END:VCALENDAR