BEGIN:VCALENDAR
VERSION:2.0
PRODID:-//time.now/holidays//NONSGML v1.0//EN
BEGIN:VEVENT
UID:209cfeb5-3f6e-4046-8dec-66c8091dfaab
DTSTAMP:20260420T194634Z
DTSTART;VALUE=DATE:20280103
SUMMARY:New Year's Day (observed) (Anguila)
END:VEVENT
END:VCALENDAR