BEGIN:VCALENDAR
VERSION:2.0
PRODID:-//time.now/holidays//NONSGML v1.0//EN
BEGIN:VEVENT
UID:acc981b4-e043-43eb-84a1-e12e25872f89
DTSTAMP:20260420T191040Z
DTSTART;VALUE=DATE:20260615
SUMMARY:King's Birthday (Anguila)
END:VEVENT
END:VCALENDAR