BEGIN:VCALENDAR
VERSION:2.0
PRODID:-//time.now/holidays//NONSGML v1.0//EN
BEGIN:VEVENT
UID:cbad4ca1-e5e4-4abb-8fbf-b6590a85c62c
DTSTAMP:20260420T052624Z
DTSTART;VALUE=DATE:20260403
SUMMARY:Good Friday (Anguila)
END:VEVENT
END:VCALENDAR