BEGIN:VCALENDAR
VERSION:2.0
PRODID:-//time.now/holidays//NONSGML v1.0//EN
BEGIN:VEVENT
UID:b2a34dcc-d832-4591-892b-de92236b5a39
DTSTAMP:20260420T043652Z
DTSTART;VALUE=DATE:20260803
SUMMARY:August Monday (Anguila)
END:VEVENT
END:VCALENDAR