BEGIN:VCALENDAR
VERSION:2.0
PRODID:-//time.now/holidays//NONSGML v1.0//EN
BEGIN:VEVENT
UID:3f1750a4-3f2a-42ff-bde1-5a799eee535a
DTSTAMP:20260420T153352Z
DTSTART;VALUE=DATE:20260530
SUMMARY:Anguilla Day (Anguila)
END:VEVENT
END:VCALENDAR