BEGIN:VCALENDAR
VERSION:2.0
PRODID:-//time.now/holidays//NONSGML v1.0//EN
BEGIN:VEVENT
UID:440bdc24-e78a-4f7e-831a-fad10cfaeae0
DTSTAMP:20260422T104652Z
DTSTART;VALUE=DATE:20270322
SUMMARY:Day off for Southern Africa Liberation Day (Angola)
END:VEVENT
END:VCALENDAR