BEGIN:VCALENDAR
VERSION:2.0
PRODID:-//time.now/holidays//NONSGML v1.0//EN
BEGIN:VEVENT
UID:dcd27927-5ea6-49e0-ac79-fbc1b00962a9
DTSTAMP:20260420T094631Z
DTSTART;VALUE=DATE:20260525
SUMMARY:Whit Monday (Andorra)
END:VEVENT
END:VCALENDAR