BEGIN:VCALENDAR
VERSION:2.0
PRODID:-//time.now/holidays//NONSGML v1.0//EN
BEGIN:VEVENT
UID:dcd6fd0d-54d3-48bd-b3d6-66d2380e72b3
DTSTAMP:20260422T110343Z
DTSTART;VALUE=DATE:20260530
SUMMARY:Virgin Mary of Canòlich (Andorra)
END:VEVENT
END:VCALENDAR