BEGIN:VCALENDAR
VERSION:2.0
PRODID:-//time.now/holidays//NONSGML v1.0//EN
BEGIN:VEVENT
UID:defacc97-c93a-4168-b778-1fdd2c65fb85
DTSTAMP:20260420T150006Z
DTSTART;VALUE=DATE:20260816
SUMMARY:Saint Roch's Day (Andorra)
END:VEVENT
END:VCALENDAR