BEGIN:VCALENDAR
VERSION:2.0
PRODID:-//time.now/holidays//NONSGML v1.0//EN
BEGIN:VEVENT
UID:c87ea381-b394-4591-89c4-ae938277e576
DTSTAMP:20260420T160851Z
DTSTART;VALUE=DATE:20260614
SUMMARY:Parish foundation day (Andorra)
END:VEVENT
END:VCALENDAR