BEGIN:VCALENDAR
VERSION:2.0
PRODID:-//time.now/holidays//NONSGML v1.0//EN
BEGIN:VEVENT
UID:5e5bc141-263f-45a6-a055-dfdce2f7efa7
DTSTAMP:20260420T230902Z
DTSTART;VALUE=DATE:20260908
SUMMARY:Our Lady of Meritxell (Andorra)
END:VEVENT
END:VCALENDAR