BEGIN:VCALENDAR
VERSION:2.0
PRODID:-//time.now/holidays//NONSGML v1.0//EN
BEGIN:VEVENT
UID:4ffe5ff1-238c-438b-ba45-d07141607a83
DTSTAMP:20260419T195531Z
DTSTART;VALUE=DATE:20261208
SUMMARY:Immaculate Conception (Andorra)
END:VEVENT
END:VCALENDAR