BEGIN:VCALENDAR
VERSION:2.0
PRODID:-//time.now/holidays//NONSGML v1.0//EN
BEGIN:VEVENT
UID:b6baf70e-53ef-4675-9a87-d1a77e525624
DTSTAMP:20260420T162235Z
DTSTART;VALUE=DATE:20261225
SUMMARY:Christmas Day (Andorra)
END:VEVENT
END:VCALENDAR