BEGIN:VCALENDAR
VERSION:2.0
PRODID:-//time.now/holidays//NONSGML v1.0//EN
BEGIN:VEVENT
UID:58d409e6-2d99-40fb-88aa-c4169f6cd2b6
DTSTAMP:20260420T173103Z
DTSTART;VALUE=DATE:20261101
SUMMARY:All Saints' Day (Andorra)
END:VEVENT
END:VCALENDAR