BEGIN:VCALENDAR
VERSION:2.0
PRODID:-//time.now/holidays//NONSGML v1.0//EN
BEGIN:VEVENT
UID:5cee56d6-a121-4403-8bf5-724c87b49853
DTSTAMP:20260420T165048Z
DTSTART;VALUE=DATE:20260216
SUMMARY:Washington's Birthday (Samoa Americana)
END:VEVENT
END:VCALENDAR