BEGIN:VCALENDAR
VERSION:2.0
PRODID:-//time.now/holidays//NONSGML v1.0//EN
BEGIN:VEVENT
UID:d2dab90b-a60e-4825-ace1-76e44eed01ac
DTSTAMP:20260420T172011Z
DTSTART;VALUE=DATE:20260101
SUMMARY:New Year's Day (Samoa Americana)
END:VEVENT
END:VCALENDAR