BEGIN:VCALENDAR
VERSION:2.0
PRODID:-//time.now/holidays//NONSGML v1.0//EN
BEGIN:VEVENT
UID:b3d18eeb-c450-4007-99ae-0e94d6a8a62c
DTSTAMP:20260420T151609Z
DTSTART;VALUE=DATE:20260703
SUMMARY:Independence Day (observed) (Samoa Americana)
END:VEVENT
END:VCALENDAR