BEGIN:VCALENDAR
VERSION:2.0
PRODID:-//time.now/holidays//NONSGML v1.0//EN
BEGIN:VEVENT
UID:c0c29219-c269-47c8-97c5-12d2015d3b51
DTSTAMP:20260420T134926Z
DTSTART;VALUE=DATE:20261101
SUMMARY:Revolution Day (Argelia)
END:VEVENT
END:VCALENDAR