BEGIN:VCALENDAR
VERSION:2.0
PRODID:-//time.now/holidays//NONSGML v1.0//EN
BEGIN:VEVENT
UID:ad14c104-e51e-4545-a051-defe7d690627
DTSTAMP:20260420T074504Z
DTSTART;VALUE=DATE:20260501
SUMMARY:Labor Day (Argelia)
END:VEVENT
END:VCALENDAR