BEGIN:VCALENDAR
VERSION:2.0
PRODID:-//time.now/holidays//NONSGML v1.0//EN
BEGIN:VEVENT
UID:78359c45-aaea-4dc6-a47b-03146bf3d280
DTSTAMP:20260420T182823Z
DTSTART;VALUE=DATE:20260616
SUMMARY:Islamic New Year (estimated) (Argelia)
END:VEVENT
END:VCALENDAR