BEGIN:VCALENDAR
VERSION:2.0
PRODID:-//time.now/holidays//NONSGML v1.0//EN
BEGIN:VEVENT
UID:d055c392-58cd-4a28-bc8b-a45fc81cfae5
DTSTAMP:20260422T090609Z
DTSTART;VALUE=DATE:20260321
SUMMARY:Eid al-Fitr Holiday (estimated) (Argelia)
END:VEVENT
END:VCALENDAR