BEGIN:VCALENDAR
VERSION:2.0
PRODID:-//time.now/holidays//NONSGML v1.0//EN
BEGIN:VEVENT
UID:1d33007a-5f1d-4cce-8cdf-0dd1f480c00a
DTSTAMP:20260422T193239Z
DTSTART;VALUE=DATE:20260528
SUMMARY:Eid al-Adha Holiday (estimated) (Argelia)
END:VEVENT
END:VCALENDAR