BEGIN:VCALENDAR
VERSION:2.0
PRODID:-//time.now/holidays//NONSGML v1.0//EN
BEGIN:VEVENT
UID:ab1af56e-c6f2-478e-8ce0-f50baf765d5b
DTSTAMP:20260420T200146Z
DTSTART;VALUE=DATE:20240315
SUMMARY:Public Holiday (Albania)
END:VEVENT
END:VCALENDAR